BEGIN:VCALENDAR
VERSION:2.0
PRODID:-//DPSG Stamm Erkrath - ECPv6.15.20//NONSGML v1.0//EN
CALSCALE:GREGORIAN
METHOD:PUBLISH
X-ORIGINAL-URL:https://dpsg-erkrath.de
X-WR-CALDESC:Veranstaltungen für DPSG Stamm Erkrath
REFRESH-INTERVAL;VALUE=DURATION:PT1H
X-Robots-Tag:noindex
X-PUBLISHED-TTL:PT1H
BEGIN:VTIMEZONE
TZID:Europe/Berlin
BEGIN:DAYLIGHT
TZOFFSETFROM:+0100
TZOFFSETTO:+0200
TZNAME:CEST
DTSTART:20250330T010000
END:DAYLIGHT
BEGIN:STANDARD
TZOFFSETFROM:+0200
TZOFFSETTO:+0100
TZNAME:CET
DTSTART:20251026T010000
END:STANDARD
BEGIN:DAYLIGHT
TZOFFSETFROM:+0100
TZOFFSETTO:+0200
TZNAME:CEST
DTSTART:20260329T010000
END:DAYLIGHT
BEGIN:STANDARD
TZOFFSETFROM:+0200
TZOFFSETTO:+0100
TZNAME:CET
DTSTART:20261025T010000
END:STANDARD
BEGIN:DAYLIGHT
TZOFFSETFROM:+0100
TZOFFSETTO:+0200
TZNAME:CEST
DTSTART:20270328T010000
END:DAYLIGHT
BEGIN:STANDARD
TZOFFSETFROM:+0200
TZOFFSETTO:+0100
TZNAME:CET
DTSTART:20271031T010000
END:STANDARD
END:VTIMEZONE
BEGIN:VEVENT
DTSTART;VALUE=DATE:20261211
DTEND;VALUE=DATE:20261212
DTSTAMP:20260422T210826
CREATED:20260118T084032Z
LAST-MODIFIED:20260118T084203Z
UID:897-1796947200-1797033599@dpsg-erkrath.de
SUMMARY:Nikolausfeier
DESCRIPTION:
URL:https://dpsg-erkrath.de/termine/nikolausfeier/
LOCATION:Kolpingheim
ATTACH;FMTTYPE=image/webp:https://dpsg-erkrath.de/wp-content/uploads/2026/01/a.webp
END:VEVENT
END:VCALENDAR