BEGIN:VCALENDAR
VERSION:2.0
PRODID:-//DPSG Stamm Erkrath - ECPv6.15.20//NONSGML v1.0//EN
CALSCALE:GREGORIAN
METHOD:PUBLISH
X-WR-CALNAME:DPSG Stamm Erkrath
X-ORIGINAL-URL:https://dpsg-erkrath.de
X-WR-CALDESC:Veranstaltungen für DPSG Stamm Erkrath
REFRESH-INTERVAL;VALUE=DURATION:PT1H
X-Robots-Tag:noindex
X-PUBLISHED-TTL:PT1H
BEGIN:VTIMEZONE
TZID:Europe/Berlin
BEGIN:DAYLIGHT
TZOFFSETFROM:+0100
TZOFFSETTO:+0200
TZNAME:CEST
DTSTART:20230326T010000
END:DAYLIGHT
BEGIN:STANDARD
TZOFFSETFROM:+0200
TZOFFSETTO:+0100
TZNAME:CET
DTSTART:20231029T010000
END:STANDARD
BEGIN:DAYLIGHT
TZOFFSETFROM:+0100
TZOFFSETTO:+0200
TZNAME:CEST
DTSTART:20240331T010000
END:DAYLIGHT
BEGIN:STANDARD
TZOFFSETFROM:+0200
TZOFFSETTO:+0100
TZNAME:CET
DTSTART:20241027T010000
END:STANDARD
BEGIN:DAYLIGHT
TZOFFSETFROM:+0100
TZOFFSETTO:+0200
TZNAME:CEST
DTSTART:20250330T010000
END:DAYLIGHT
BEGIN:STANDARD
TZOFFSETFROM:+0200
TZOFFSETTO:+0100
TZNAME:CET
DTSTART:20251026T010000
END:STANDARD
END:VTIMEZONE
BEGIN:VEVENT
DTSTART;TZID=Europe/Berlin:20240630T094500
DTEND;TZID=Europe/Berlin:20240630T104500
DTSTAMP:20260421T222055
CREATED:20240223T153458Z
LAST-MODIFIED:20240629T153748Z
UID:642-1719740700-1719744300@dpsg-erkrath.de
SUMMARY:Wald- und Wiesenmesse
DESCRIPTION:
URL:https://dpsg-erkrath.de/termine/wald-und-wiesenmesse/
ATTACH;FMTTYPE=image/jpeg:https://dpsg-erkrath.de/wp-content/uploads/2023/04/Wiesenmesse.jpg
END:VEVENT
BEGIN:VEVENT
DTSTART;TZID=Europe/Berlin:20240630T110000
DTEND;TZID=Europe/Berlin:20240630T130000
DTSTAMP:20260421T222055
CREATED:20240223T153546Z
LAST-MODIFIED:20240629T153802Z
UID:644-1719745200-1719752400@dpsg-erkrath.de
SUMMARY:Stammesversammlung
DESCRIPTION:
URL:https://dpsg-erkrath.de/termine/stammesversammlung/
ATTACH;FMTTYPE=image/jpeg:https://dpsg-erkrath.de/wp-content/uploads/2022/02/20180902_105058-scaled.jpg
END:VEVENT
END:VCALENDAR