BEGIN:VCALENDAR
VERSION:2.0
PRODID:-//DPSG Stamm Erkrath - ECPv6.15.20//NONSGML v1.0//EN
CALSCALE:GREGORIAN
METHOD:PUBLISH
X-WR-CALNAME:DPSG Stamm Erkrath
X-ORIGINAL-URL:https://dpsg-erkrath.de
X-WR-CALDESC:Veranstaltungen für DPSG Stamm Erkrath
REFRESH-INTERVAL;VALUE=DURATION:PT1H
X-Robots-Tag:noindex
X-PUBLISHED-TTL:PT1H
BEGIN:VTIMEZONE
TZID:Europe/Berlin
BEGIN:DAYLIGHT
TZOFFSETFROM:+0100
TZOFFSETTO:+0200
TZNAME:CEST
DTSTART:20230326T010000
END:DAYLIGHT
BEGIN:STANDARD
TZOFFSETFROM:+0200
TZOFFSETTO:+0100
TZNAME:CET
DTSTART:20231029T010000
END:STANDARD
BEGIN:DAYLIGHT
TZOFFSETFROM:+0100
TZOFFSETTO:+0200
TZNAME:CEST
DTSTART:20240331T010000
END:DAYLIGHT
BEGIN:STANDARD
TZOFFSETFROM:+0200
TZOFFSETTO:+0100
TZNAME:CET
DTSTART:20241027T010000
END:STANDARD
BEGIN:DAYLIGHT
TZOFFSETFROM:+0100
TZOFFSETTO:+0200
TZNAME:CEST
DTSTART:20250330T010000
END:DAYLIGHT
BEGIN:STANDARD
TZOFFSETFROM:+0200
TZOFFSETTO:+0100
TZNAME:CET
DTSTART:20251026T010000
END:STANDARD
END:VTIMEZONE
BEGIN:VEVENT
DTSTART;VALUE=DATE:20241122
DTEND;VALUE=DATE:20241125
DTSTAMP:20260421T141638
CREATED:20240629T154344Z
LAST-MODIFIED:20240629T154344Z
UID:688-1732233600-1732492799@dpsg-erkrath.de
SUMMARY:Georgsfahrt 2024
DESCRIPTION:Die Anmeldung bekommt ihr bald von euren Leiter*innen
URL:https://dpsg-erkrath.de/termine/georgsfahrt-2024/
LOCATION:Wermelskirchen
END:VEVENT
END:VCALENDAR